BEGIN:VCALENDAR
VERSION:2.0
PRODID:-//hacksw/handcal//NONSGML v1.0//EN
BEGIN:VEVENT
SUMMARY:course nature de Bairon
UID:97a88fd1-3286-4c1f-b725-c9dd7698e123
DTSTART:20260410T220000Z
DTEND:20260411T220000Z
LOCATION:Localisation   
CATEGORIES:Sportif
STATUS:
URL;VALUE=URI:https://as-sommer-athletisme.sportsregions.fr/evenements/2026/04/11/course-nature-de-bairon-2440411
END:VEVENT
END:VCALENDAR
